BEGIN:VCALENDAR
VERSION:2.0
PRODID:gruene-laudenbach.de
METHOD:PUBLISH
BEGIN:VTIMEZONE
TZID:Europe/Berlin
X-LIC-LOCATION:Europe/Berlin
BEGIN:DAYLIGHT
TZOFFSETFROM:+0100
TZOFFSETTO:+0200
TZNAME:CEST
DTSTART:19700329T020000
RRULE:FREQ=YEARLY;INTERVAL=1;BYDAY=-1SU;BYMONTH=3
END:DAYLIGHT
BEGIN:STANDARD
TZOFFSETFROM:+0200
TZOFFSETTO:+0100
TZNAME:CET
DTSTART:19701025T030000
RRULE:FREQ=YEARLY;INTERVAL=1;BYDAY=-1SU;BYMONTH=10
END:STANDARD
END:VTIMEZONE
BEGIN:VEVENT
UID:6629cedfddc1c937edca12ca2f8d4cf6@gruene-laudenbach.de
URL;VALUE=URI:https://gruene-laudenbach.de/termine/beispieltermin/
LOCATION:Grünes Büro, Hauptstraße 23, 69469 Weinheim
SUMMARY:Beispieltermin
DESCRIPTION;ALTREP="data:text/html,%0A%3Cp%3EBeispieleinladungstext%3C%2F
 p%3E%0A":Beispieleinladungstext
CLASS:PUBLIC
DTSTART;TZID=Europe/Berlin:20300404T130000
DTEND;TZID=Europe/Berlin:20300404T150000
DTSTAMP:20260420T043625
END:VEVENT
END:VCALENDAR